BEGIN:VCALENDAR
VERSION:2.0
PRODID:-//Heritage Trust Baroda - ECPv6.15.14//NONSGML v1.0//EN
CALSCALE:GREGORIAN
METHOD:PUBLISH
X-WR-CALNAME:Heritage Trust Baroda
X-ORIGINAL-URL:https://v11.heritagetrustbaroda.org
X-WR-CALDESC:Events for Heritage Trust Baroda
REFRESH-INTERVAL;VALUE=DURATION:PT1H
X-Robots-Tag:noindex
X-PUBLISHED-TTL:PT1H
BEGIN:VTIMEZONE
TZID:Asia/Kolkata
BEGIN:STANDARD
TZOFFSETFROM:+0530
TZOFFSETTO:+0530
TZNAME:IST
DTSTART:20210101T000000
END:STANDARD
END:VTIMEZONE
BEGIN:VEVENT
DTSTART;TZID=Asia/Kolkata:20220327T083000
DTEND;TZID=Asia/Kolkata:20220327T103000
DTSTAMP:20260422T230232
CREATED:20251212T194103Z
LAST-MODIFIED:20251212T194103Z
UID:32545-1648369800-1648377000@v11.heritagetrustbaroda.org
SUMMARY:NARROW GAUGE RAILWAY HERITAGE
DESCRIPTION:WALKING TOUR\nMarch 27\, 2022\, 8:30 – 10:00 am \nThis walk at the Pratapnagar Railway station will showcase the carriages\, and other railway engineering structures from the past. \nSchedule: Everyone will gather at Pratapnagar Narrow Gauge Railway Heritage Park\, Vadodara at 8.30 am.
URL:https://v11.heritagetrustbaroda.org/event/narrow-gauge-railway-heritage/
LOCATION:Pratapnagar Narrow Gauge Railway Heritage Park\, Pratap Nagar\, Vadodara\, Gujarat\, India
CATEGORIES:Heritage,Heritage Walk
ATTACH;FMTTYPE=image/jpeg:https://v11.heritagetrustbaroda.org/wp-content/uploads/2025/12/final-railway.jpeg
END:VEVENT
END:VCALENDAR