BEGIN:VCALENDAR
VERSION:2.0
PRODID:-//Heritage Trust Baroda - ECPv6.15.14//NONSGML v1.0//EN
CALSCALE:GREGORIAN
METHOD:PUBLISH
X-WR-CALNAME:Heritage Trust Baroda
X-ORIGINAL-URL:https://v11.heritagetrustbaroda.org
X-WR-CALDESC:Events for Heritage Trust Baroda
REFRESH-INTERVAL;VALUE=DURATION:PT1H
X-Robots-Tag:noindex
X-PUBLISHED-TTL:PT1H
BEGIN:VTIMEZONE
TZID:Asia/Kolkata
BEGIN:STANDARD
TZOFFSETFROM:+0530
TZOFFSETTO:+0530
TZNAME:IST
DTSTART:20210101T000000
END:STANDARD
END:VTIMEZONE
BEGIN:VEVENT
DTSTART;VALUE=DATE:20221114
DTEND;VALUE=DATE:20221128
DTSTAMP:20260422T103137
CREATED:20251212T195155Z
LAST-MODIFIED:20251212T195155Z
UID:32553-1668384000-1669593599@v11.heritagetrustbaroda.org
SUMMARY:The Photography Competition
DESCRIPTION:The Photography Competition\n14th to 27th November 2022 \nParticipants need to take the pictures of the following 4 heritage structures \n\nNyay Mandir\,\nJaisingh Rao Library\,\nTambekar Wada\nKirtimandir Complex\n\nThe pics will have to be shared on Instagram and Facebook and Heritage Trust has to be tagged. There will be prizes for the photos which get the most likes for each site. \nCompetition Deadline 27th November 2022\, 8.00am.
URL:https://v11.heritagetrustbaroda.org/event/the-photography-competition/
CATEGORIES:Heritage,Photo Contest
ATTACH;FMTTYPE=image/jpeg:https://v11.heritagetrustbaroda.org/wp-content/uploads/2025/12/photography-competition-scaled-1.jpg
ORGANIZER;CN="Heritage Trust Baroda":MAILTO:info@heritagetrustbaroda.org
END:VEVENT
BEGIN:VEVENT
DTSTART;TZID=Asia/Kolkata:20221119T184500
DTEND;TZID=Asia/Kolkata:20221119T203000
DTSTAMP:20260422T103137
CREATED:20251212T200336Z
LAST-MODIFIED:20251212T200413Z
UID:32560-1668883500-1668889800@v11.heritagetrustbaroda.org
SUMMARY:Heritage Munch-walk - Raopura Retromance (Veg)
DESCRIPTION:Heritage Trust Baroda Cordially invites you to join us for a gastronomic heritage walk\, tracking a timeless treasure of tasty treats in and off the streets of Raopura area\, with the food lover\nAdil Marawala \nSaturday\, 194 November\, 2022\n6:45 pm Onwards\nStart Point: Vodafone\, Kothi crossroads\, Vadodara \nRegistration is compulsory on a first-come first-served basis and the group size is limitea to 12 people\, maximum 15.
URL:https://v11.heritagetrustbaroda.org/event/heritage-munch-walk-raopura-retromance-veg/
CATEGORIES:Food,Heritage Walk
ATTACH;FMTTYPE=image/jpeg:https://v11.heritagetrustbaroda.org/wp-content/uploads/2025/12/retromance-veg.jpg
ORGANIZER;CN="Heritage Trust Baroda":MAILTO:info@heritagetrustbaroda.org
END:VEVENT
END:VCALENDAR