BEGIN:VCALENDAR
VERSION:2.0
PRODID:-//Heritage Trust Baroda - ECPv6.15.14//NONSGML v1.0//EN
CALSCALE:GREGORIAN
METHOD:PUBLISH
X-WR-CALNAME:Heritage Trust Baroda
X-ORIGINAL-URL:https://v11.heritagetrustbaroda.org
X-WR-CALDESC:Events for Heritage Trust Baroda
REFRESH-INTERVAL;VALUE=DURATION:PT1H
X-Robots-Tag:noindex
X-PUBLISHED-TTL:PT1H
BEGIN:VTIMEZONE
TZID:Asia/Kolkata
BEGIN:STANDARD
TZOFFSETFROM:+0530
TZOFFSETTO:+0530
TZNAME:IST
DTSTART:20220101T000000
END:STANDARD
END:VTIMEZONE
BEGIN:VEVENT
DTSTART;TZID=Asia/Kolkata:20230819T080000
DTEND;TZID=Asia/Kolkata:20230819T170000
DTSTAMP:20260421T193118
CREATED:20251220T182740Z
LAST-MODIFIED:20251220T183546Z
UID:32614-1692432000-1692464400@v11.heritagetrustbaroda.org
SUMMARY:Unraveling Heritage of Baroda workshop at NISV with 6th graders
DESCRIPTION:A Collaborative Initiative by Heritage Trust Baroda and NISV \nUnraveling Heritage of Baroda\nBaroda Library Movement \nEngaging Children in Heritage Sensitization Workshop based on National Education Policy (NEP) 2020 and UN 17 Sustainable Development Goals (SDGs) \nVenue: NISV Campus Vadodara\nDate: Saturday\, 19th August 2023
URL:https://v11.heritagetrustbaroda.org/event/unraveling-heritage-of-baroda-workshop-at-nisv-with-6th-graders/
LOCATION:Navrachana International School Vadodara\, Vasna - Bhayli Main Rd\, Bhayli\, Vadodara\, Gujarat\, 391410\, India
CATEGORIES:Heritage
ATTACH;FMTTYPE=image/webp:https://v11.heritagetrustbaroda.org/wp-content/uploads/2025/12/unraveling-nisv.webp
ORGANIZER;CN="Heritage Trust Baroda":MAILTO:info@heritagetrustbaroda.org
END:VEVENT
END:VCALENDAR