BEGIN:VCALENDAR
VERSION:2.0
PRODID:-//Heritage Trust Baroda - ECPv6.15.14//NONSGML v1.0//EN
CALSCALE:GREGORIAN
METHOD:PUBLISH
X-ORIGINAL-URL:https://v11.heritagetrustbaroda.org
X-WR-CALDESC:Events for Heritage Trust Baroda
REFRESH-INTERVAL;VALUE=DURATION:PT1H
X-Robots-Tag:noindex
X-PUBLISHED-TTL:PT1H
BEGIN:VTIMEZONE
TZID:Asia/Kolkata
BEGIN:STANDARD
TZOFFSETFROM:+0530
TZOFFSETTO:+0530
TZNAME:IST
DTSTART:20220101T000000
END:STANDARD
END:VTIMEZONE
BEGIN:VEVENT
DTSTART;TZID=Asia/Kolkata:20230827T160000
DTEND;TZID=Asia/Kolkata:20230827T180000
DTSTAMP:20260421T193244
CREATED:20251220T184514Z
LAST-MODIFIED:20251220T184514Z
UID:32620-1693152000-1693159200@v11.heritagetrustbaroda.org
SUMMARY:Future City Talk 2.0
DESCRIPTION:Engage in an inspiring discussion\, share ideas\, and empower the youth to contribute to Heritage Conservation. \nDate: 27th August 2023 – 4 PM ONWARDS \nVenue: HOPPERS RESTRO CAFE & SPORTS ARENA – VADODARA \n  \nThe Heritage Trust is a partner for a series of talks organised by Chhatra Sansad in association with Our Vadodara . \nHeritage Trust members\, Sandhya Gajjar will speak on Champaner Pavagadh: Lessons from Ancient Cities for Future Cities\n&\nSwapna Kothari will speak on the Heritage Trust Publication: The Baroda Collective: A conscious effort to bring heritage to city planning.
URL:https://v11.heritagetrustbaroda.org/event/future-city-talk-2-0/
LOCATION:HOPPERS RESTRO CAFE & SPORTS ARENA\, Vadodara\, Gujarat\, India
CATEGORIES:Heritage
ATTACH;FMTTYPE=image/jpeg:https://v11.heritagetrustbaroda.org/wp-content/uploads/2025/12/future-city2.jpeg
ORGANIZER;CN="Heritage Trust Baroda":MAILTO:info@heritagetrustbaroda.org
END:VEVENT
END:VCALENDAR