BEGIN:VCALENDAR
VERSION:2.0
PRODID:-//Heritage Trust Baroda - ECPv6.15.14//NONSGML v1.0//EN
CALSCALE:GREGORIAN
METHOD:PUBLISH
X-WR-CALNAME:Heritage Trust Baroda
X-ORIGINAL-URL:https://v11.heritagetrustbaroda.org
X-WR-CALDESC:Events for Heritage Trust Baroda
REFRESH-INTERVAL;VALUE=DURATION:PT1H
X-Robots-Tag:noindex
X-PUBLISHED-TTL:PT1H
BEGIN:VTIMEZONE
TZID:Asia/Kolkata
BEGIN:STANDARD
TZOFFSETFROM:+0530
TZOFFSETTO:+0530
TZNAME:IST
DTSTART:20230101T000000
END:STANDARD
END:VTIMEZONE
BEGIN:VEVENT
DTSTART;TZID=Asia/Kolkata:20240112T080000
DTEND;TZID=Asia/Kolkata:20240112T170000
DTSTAMP:20260421T114206
CREATED:20251220T191729Z
LAST-MODIFIED:20251220T191729Z
UID:32627-1705046400-1705078800@v11.heritagetrustbaroda.org
SUMMARY:Workshop at NISV for 7th Graders
DESCRIPTION:Speakers\nAlka Smart\, Advaita Jalan\, Sriparna Seal
URL:https://v11.heritagetrustbaroda.org/event/workshop-at-nisv-for-7th-graders/
LOCATION:Navrachana International School Vadodara\, Vasna - Bhayli Main Rd\, Bhayli\, Vadodara\, Gujarat\, 391410\, India
CATEGORIES:Heritage
ORGANIZER;CN="Heritage Trust Baroda":MAILTO:info@heritagetrustbaroda.org
END:VEVENT
END:VCALENDAR