BEGIN:VCALENDAR
VERSION:2.0
PRODID:-//Heritage Trust Baroda - ECPv6.15.14//NONSGML v1.0//EN
CALSCALE:GREGORIAN
METHOD:PUBLISH
X-WR-CALNAME:Heritage Trust Baroda
X-ORIGINAL-URL:https://v11.heritagetrustbaroda.org
X-WR-CALDESC:Events for Heritage Trust Baroda
REFRESH-INTERVAL;VALUE=DURATION:PT1H
X-Robots-Tag:noindex
X-PUBLISHED-TTL:PT1H
BEGIN:VTIMEZONE
TZID:Asia/Kolkata
BEGIN:STANDARD
TZOFFSETFROM:+0530
TZOFFSETTO:+0530
TZNAME:IST
DTSTART:20230101T000000
END:STANDARD
END:VTIMEZONE
BEGIN:VEVENT
DTSTART;TZID=Asia/Kolkata:20240203T080000
DTEND;TZID=Asia/Kolkata:20240203T170000
DTSTAMP:20260421T114218
CREATED:20251220T192721Z
LAST-MODIFIED:20251220T192721Z
UID:32632-1706947200-1706979600@v11.heritagetrustbaroda.org
SUMMARY:Workshop at NISV for 8th Graders
DESCRIPTION:Speakers: \nSandhya Gajjar\, Sriparna Seal
URL:https://v11.heritagetrustbaroda.org/event/workshop-at-nisv-for-8th-graders/
LOCATION:Navrachana International School Vadodara\, Vasna - Bhayli Main Rd\, Bhayli\, Vadodara\, Gujarat\, 391410\, India
CATEGORIES:Heritage
ORGANIZER;CN="Heritage Trust Baroda":MAILTO:info@heritagetrustbaroda.org
END:VEVENT
END:VCALENDAR