BEGIN:VCALENDAR
VERSION:2.0
PRODID:-//Heritage Trust Baroda - ECPv6.15.14//NONSGML v1.0//EN
CALSCALE:GREGORIAN
METHOD:PUBLISH
X-WR-CALNAME:Heritage Trust Baroda
X-ORIGINAL-URL:https://v11.heritagetrustbaroda.org
X-WR-CALDESC:Events for Heritage Trust Baroda
REFRESH-INTERVAL;VALUE=DURATION:PT1H
X-Robots-Tag:noindex
X-PUBLISHED-TTL:PT1H
BEGIN:VTIMEZONE
TZID:Asia/Kolkata
BEGIN:STANDARD
TZOFFSETFROM:+0530
TZOFFSETTO:+0530
TZNAME:IST
DTSTART:20230101T000000
END:STANDARD
END:VTIMEZONE
BEGIN:VEVENT
DTSTART;TZID=Asia/Kolkata:20240525T090000
DTEND;TZID=Asia/Kolkata:20240525T110000
DTSTAMP:20260421T043925
CREATED:20251212T203818Z
LAST-MODIFIED:20251212T203818Z
UID:32580-1716627600-1716634800@v11.heritagetrustbaroda.org
SUMMARY:Makarpura Medley - 2024
DESCRIPTION:Makarpura Medley\nThe Workshop \nThe Heritage Trust of Baroda invites you to join us for an engaging block printing workshop at Bodhi. Let our seasoned experts immerse you in the intricacies of this ancient craft\, guiding you through the process of creating your very own block-printed masterpiece to cherish as a souvenir of this delightful event. Special discounts are available for parent and child pairs. Don’t miss out on this opportunity to have fun while learning something timeless. \nSaturday:\n25th May\, 2024 9:00am – 11:00am \nVenue:\nBodhi 889/4\, GIDC Industrial Estate\, Makarpura Vadodara – 390010
URL:https://v11.heritagetrustbaroda.org/event/makarpura-medley-2024/
LOCATION:Bodhi\, Makarpura\, Vadodara\, Gujarat\, India
CATEGORIES:Heritage
ATTACH;FMTTYPE=image/webp:https://v11.heritagetrustbaroda.org/wp-content/uploads/2025/12/makarpura-medley-2024.webp
ORGANIZER;CN="Heritage Trust Baroda":MAILTO:info@heritagetrustbaroda.org
END:VEVENT
END:VCALENDAR