BEGIN:VCALENDAR
VERSION:2.0
PRODID:-//Heritage Trust Baroda - ECPv6.15.14//NONSGML v1.0//EN
CALSCALE:GREGORIAN
METHOD:PUBLISH
X-ORIGINAL-URL:https://v11.heritagetrustbaroda.org
X-WR-CALDESC:Events for Heritage Trust Baroda
REFRESH-INTERVAL;VALUE=DURATION:PT1H
X-Robots-Tag:noindex
X-PUBLISHED-TTL:PT1H
BEGIN:VTIMEZONE
TZID:Asia/Kolkata
BEGIN:STANDARD
TZOFFSETFROM:+0530
TZOFFSETTO:+0530
TZNAME:IST
DTSTART:20230101T000000
END:STANDARD
END:VTIMEZONE
BEGIN:VEVENT
DTSTART;TZID=Asia/Kolkata:20240823T080000
DTEND;TZID=Asia/Kolkata:20240823T170000
DTSTAMP:20260421T033236
CREATED:20251221T090554Z
LAST-MODIFIED:20251221T090554Z
UID:32671-1724400000-1724432400@v11.heritagetrustbaroda.org
SUMMARY:Screening of the Sur Sagar Documentary
DESCRIPTION:Premiering of our film documenting our Heritage Walk around Sur Sagar\, filmed by @lightdrizzlefilms and narrated by @radhikaraje\, at Gazra Café on the 66th death anniversary of Maharani Chimnabai II. The café\, named after Maharani Chimnabai’s maiden name ‘Gazra\,’ served as the perfect venue to honor her legacy. \nThe heritage walk\, organized back in April\, in collaboration with @chimnabai_udyogalaya and @ourvadodara highlighted the rich history and architectural marvels around Sursagar Lake. After the screening\, HH Radhikaraje Gaekwad and our president Sameer Khera led a vibrant discussion on preserving and celebrating Vadodara’s heritage\, with attendees actively participating in the conversation.\nWe were honored to present Her Highness with our Baroda Collective books as a token of appreciation. \nOur film will soon be on YouTube and our books are available for purchase!
URL:https://v11.heritagetrustbaroda.org/event/screening-of-the-sur-sagar-documentary/
LOCATION:Gazra Café\, Vadodara\, Gujarat\, India
CATEGORIES:Heritage,Heritage Walk
ATTACH;FMTTYPE=image/webp:https://v11.heritagetrustbaroda.org/wp-content/uploads/2025/12/sursagar.webp
ORGANIZER;CN="Heritage Trust Baroda":MAILTO:info@heritagetrustbaroda.org
END:VEVENT
END:VCALENDAR