BEGIN:VCALENDAR
VERSION:2.0
PRODID:-//Heritage Trust Baroda - ECPv6.15.14//NONSGML v1.0//EN
CALSCALE:GREGORIAN
METHOD:PUBLISH
X-ORIGINAL-URL:https://v11.heritagetrustbaroda.org
X-WR-CALDESC:Events for Heritage Trust Baroda
REFRESH-INTERVAL;VALUE=DURATION:PT1H
X-Robots-Tag:noindex
X-PUBLISHED-TTL:PT1H
BEGIN:VTIMEZONE
TZID:Asia/Kolkata
BEGIN:STANDARD
TZOFFSETFROM:+0530
TZOFFSETTO:+0530
TZNAME:IST
DTSTART:20230101T000000
END:STANDARD
END:VTIMEZONE
BEGIN:VEVENT
DTSTART;TZID=Asia/Kolkata:20241124T103000
DTEND;TZID=Asia/Kolkata:20241124T130000
DTSTAMP:20260420T184932
CREATED:20251209T183932Z
LAST-MODIFIED:20251209T183932Z
UID:32452-1732444200-1732453200@v11.heritagetrustbaroda.org
SUMMARY:Workshop on Baroda Library Movement
DESCRIPTION:Workshop on Baroda Library Movement with kids from Srotoshwini Trust \nCurated and Conducted by Alka Smart\, Advaita Jalan and Bhavesh Dhonde
URL:https://v11.heritagetrustbaroda.org/event/workshop-on-baroda-library-movement/
LOCATION:Baroda Central Library\, Besides Bank of Baroda\, Bajwada\, Vadodara\, Gujarat\, 390006\, India
CATEGORIES:Heritage
ATTACH;FMTTYPE=image/jpeg:https://v11.heritagetrustbaroda.org/wp-content/uploads/2025/12/library-workshop.jpg
ORGANIZER;CN="Heritage Trust Baroda":MAILTO:info@heritagetrustbaroda.org
END:VEVENT
BEGIN:VEVENT
DTSTART;TZID=Asia/Kolkata:20241124T183000
DTEND;TZID=Asia/Kolkata:20241124T193000
DTSTAMP:20260420T184932
CREATED:20251209T184158Z
LAST-MODIFIED:20251209T184158Z
UID:32455-1732473000-1732476600@v11.heritagetrustbaroda.org
SUMMARY:A Coin Story: A glimpse into Numismatic Heritage
DESCRIPTION:A Glimpse into Numismatic Heritage \nCurated and Conducted by Zubair Motiwala
URL:https://v11.heritagetrustbaroda.org/event/a-coin-story-a-glimpse-into-numismatic-heritage/
LOCATION:Honest Jewellers\, Mandvi\, Mandvi\, Vadodara\, Gujarat\, India
CATEGORIES:Heritage
ATTACH;FMTTYPE=image/jpeg:https://v11.heritagetrustbaroda.org/wp-content/uploads/2025/12/coin-story.jpg
ORGANIZER;CN="Heritage Trust Baroda":MAILTO:info@heritagetrustbaroda.org
END:VEVENT
END:VCALENDAR