BEGIN:VCALENDAR
VERSION:2.0
PRODID:-//Heritage Trust Baroda - ECPv6.15.14//NONSGML v1.0//EN
CALSCALE:GREGORIAN
METHOD:PUBLISH
X-WR-CALNAME:Heritage Trust Baroda
X-ORIGINAL-URL:https://v11.heritagetrustbaroda.org
X-WR-CALDESC:Events for Heritage Trust Baroda
REFRESH-INTERVAL;VALUE=DURATION:PT1H
X-Robots-Tag:noindex
X-PUBLISHED-TTL:PT1H
BEGIN:VTIMEZONE
TZID:Asia/Kolkata
BEGIN:STANDARD
TZOFFSETFROM:+0530
TZOFFSETTO:+0530
TZNAME:IST
DTSTART:20240101T000000
END:STANDARD
END:VTIMEZONE
BEGIN:VEVENT
DTSTART;TZID=Asia/Kolkata:20250130T080000
DTEND;TZID=Asia/Kolkata:20250130T170000
DTSTAMP:20260420T143311
CREATED:20251221T093015Z
LAST-MODIFIED:20251221T093015Z
UID:32684-1738224000-1738256400@v11.heritagetrustbaroda.org
SUMMARY:Planet + Star Gazing at MSU Astronomy Tower (Private event\, Invitation to HT EC members only)
DESCRIPTION:Beyond the Horizon: An Evening of Astronomy & Legacy! \nHeritage Trust EC members had an unforgettable evening of planet and star gazing at the Astronomical Telescope Dome Observatory at MS University\, hosted by @ashishelvis\, a Heritage Trust member and lecturer in the Physics Department. \nUsing the historic German telescope brought from London by Sayajirao Gaekwad III in the 1930s\, we observed Venus\, Saturn\, and Jupiter along with their satellites\, nebulae\, and prominent stars from well-known constellations. \nWe were honoured to have HH Radhika Raje Gaekwad join us in this celestial experience! A heartfelt thanks to Dr. Rajinikant Makwana for granting us access to the observatory and to the wonderful Astronomy students of MSU for curating and facilitating this stellar night.
URL:https://v11.heritagetrustbaroda.org/event/planet-star-gazing-at-msu-astronomy-tower-private-event-invitation-to-ht-ec-members-only/
LOCATION:Physics Department MSU\, Vadodara\, Gujarat\, India
CATEGORIES:Heritage
ATTACH;FMTTYPE=image/webp:https://v11.heritagetrustbaroda.org/wp-content/uploads/2025/12/astronomy.webp
END:VEVENT
END:VCALENDAR