BEGIN:VCALENDAR
VERSION:2.0
PRODID:-//Heritage Trust Baroda - ECPv6.15.14//NONSGML v1.0//EN
CALSCALE:GREGORIAN
METHOD:PUBLISH
X-ORIGINAL-URL:https://v11.heritagetrustbaroda.org
X-WR-CALDESC:Events for Heritage Trust Baroda
REFRESH-INTERVAL;VALUE=DURATION:PT1H
X-Robots-Tag:noindex
X-PUBLISHED-TTL:PT1H
BEGIN:VTIMEZONE
TZID:Asia/Kolkata
BEGIN:STANDARD
TZOFFSETFROM:+0530
TZOFFSETTO:+0530
TZNAME:IST
DTSTART:20210101T000000
END:STANDARD
END:VTIMEZONE
BEGIN:VEVENT
DTSTART;TZID=Asia/Kolkata:20221120T182000
DTEND;TZID=Asia/Kolkata:20221120T203000
DTSTAMP:20260422T141410
CREATED:20251212T201341Z
LAST-MODIFIED:20251212T201341Z
UID:32567-1668968400-1668976200@v11.heritagetrustbaroda.org
SUMMARY:Baroda Triangle (Veg + Non Veg)
DESCRIPTION:A walk exploring the food streets of Chowkhandi\, Moghulwada and Mandvi specially curated for our non-vegetarian foodies on foot !!! \nSunday\, 20th November\, 2022 \n6:20 pm Onwards \nStart Point: Near Shriram TamTam-Wala ( Chokhandi Main Road)\, Vadodara \nRegistration is compulsory on a first-come first-served basis and the group size is limited to 12 people\, maximum 15.
URL:https://v11.heritagetrustbaroda.org/event/baroda-triangle-veg-non-veg/
LOCATION:Gujarat
CATEGORIES:Food,Heritage
ATTACH;FMTTYPE=image/jpeg:https://v11.heritagetrustbaroda.org/wp-content/uploads/2025/12/Vadodara-Triangle.jpg
ORGANIZER;CN="Heritage Trust Baroda":MAILTO:info@heritagetrustbaroda.org
END:VEVENT
END:VCALENDAR