BEGIN:VCALENDAR
VERSION:2.0
PRODID:-//Heritage Trust Baroda - ECPv6.15.14//NONSGML v1.0//EN
CALSCALE:GREGORIAN
METHOD:PUBLISH
X-ORIGINAL-URL:https://v11.heritagetrustbaroda.org
X-WR-CALDESC:Events for Heritage Trust Baroda
REFRESH-INTERVAL;VALUE=DURATION:PT1H
X-Robots-Tag:noindex
X-PUBLISHED-TTL:PT1H
BEGIN:VTIMEZONE
TZID:Asia/Kolkata
BEGIN:STANDARD
TZOFFSETFROM:+0530
TZOFFSETTO:+0530
TZNAME:IST
DTSTART:20160101T000000
END:STANDARD
END:VTIMEZONE
BEGIN:VEVENT
DTSTART;TZID=Asia/Kolkata:20171125T170000
DTEND;TZID=Asia/Kolkata:20171125T200000
DTSTAMP:20260424T145431
CREATED:20251212T183310Z
LAST-MODIFIED:20251212T183435Z
UID:32521-1511629200-1511640000@v11.heritagetrustbaroda.org
SUMMARY:Heritage\, Diversity and Identity: The making of Singapore's Indian Heritage Centre
DESCRIPTION:Heritage\, Diversity and Identity:\nThe making of Singapore’s Indian Heritage Centre \nby \nDr. Gauri Parimoo Krishnan\nArt Historian & Museum Curator based in Singapore \n  \nPreserving the Natural and Cultural Heritage of Ladakh and the Home Stay Program  \nby\nDr. Tsewang Namgail\nSnow Leopard Conservancy India Trust\, Ladakh \nHigh Tea: 5:00 pm to 5:30 pm\nLecture: 5:30 pm to 8:00 pm\nDate: Saturday\, November 25\, 2017\nVenue: Grand Mercure Surya Palace\, Sayajigunj
URL:https://v11.heritagetrustbaroda.org/event/heritage-diversity-and-identity/
LOCATION:Grand Mercure Surya Palace\, Sayajigunj\, Vadodara\, Gujarat\, India
CATEGORIES:Heritage,Viraasat Lectures
ATTACH;FMTTYPE=image/webp:https://v11.heritagetrustbaroda.org/wp-content/uploads/2025/12/viraasat-lecture-2017.webp
ORGANIZER;CN="Heritage Trust Baroda":MAILTO:info@heritagetrustbaroda.org
END:VEVENT
END:VCALENDAR