BEGIN:VCALENDAR
VERSION:2.0
PRODID:-//Heritage Trust Baroda - ECPv6.15.14//NONSGML v1.0//EN
CALSCALE:GREGORIAN
METHOD:PUBLISH
X-ORIGINAL-URL:https://v11.heritagetrustbaroda.org
X-WR-CALDESC:Events for Heritage Trust Baroda
REFRESH-INTERVAL;VALUE=DURATION:PT1H
X-Robots-Tag:noindex
X-PUBLISHED-TTL:PT1H
BEGIN:VTIMEZONE
TZID:Asia/Kolkata
BEGIN:STANDARD
TZOFFSETFROM:+0530
TZOFFSETTO:+0530
TZNAME:IST
DTSTART:20210101T000000
END:STANDARD
END:VTIMEZONE
BEGIN:VEVENT
DTSTART;TZID=Asia/Kolkata:20220108T100000
DTEND;TZID=Asia/Kolkata:20220108T130000
DTSTAMP:20260423T032445
CREATED:20251212T194526Z
LAST-MODIFIED:20251212T194642Z
UID:32549-1641636000-1641646800@v11.heritagetrustbaroda.org
SUMMARY:Makarpura Medley 2022
DESCRIPTION:Makarpura Medley\non Saturday 8th\, 22nd and 29th\, January 2022\n10:00am Onwards \nA day out with Heritage!!! \nThe event will include a visit to Boahi\, exploring the methodology of printing on cloth with wooden blocks that developed many centuries back\, followed by a brunch and concluding in a visit to ‘Site to understand the continuing tradition of the Swing as an essential component of interior design in Indian homes since times immemorial \nRegistration is compulsory on a first-come first-served basis Rs\, 500 per head\, will include a one year membership ana the group size is limited to maximum 30 people.
URL:https://v11.heritagetrustbaroda.org/event/makarpura-medley-2022/
LOCATION:Bodhi\, Makarpura\, Vadodara\, Gujarat\, India
CATEGORIES:Heritage,Workshops
ATTACH;FMTTYPE=image/jpeg:https://v11.heritagetrustbaroda.org/wp-content/uploads/2025/12/makarpura.jpeg
ORGANIZER;CN="Heritage Trust Baroda":MAILTO:info@heritagetrustbaroda.org
END:VEVENT
END:VCALENDAR