BEGIN:VCALENDAR
VERSION:2.0
PRODID:-//Heritage Trust Baroda - ECPv6.15.14//NONSGML v1.0//EN
CALSCALE:GREGORIAN
METHOD:PUBLISH
X-ORIGINAL-URL:https://v11.heritagetrustbaroda.org
X-WR-CALDESC:Events for Heritage Trust Baroda
REFRESH-INTERVAL;VALUE=DURATION:PT1H
X-Robots-Tag:noindex
X-PUBLISHED-TTL:PT1H
BEGIN:VTIMEZONE
TZID:Asia/Kolkata
BEGIN:STANDARD
TZOFFSETFROM:+0530
TZOFFSETTO:+0530
TZNAME:IST
DTSTART:20230101T000000
END:STANDARD
END:VTIMEZONE
BEGIN:VEVENT
DTSTART;TZID=Asia/Kolkata:20240301T080000
DTEND;TZID=Asia/Kolkata:20240303T170000
DTSTAMP:20260421T063125
CREATED:20251220T194810Z
LAST-MODIFIED:20251220T195009Z
UID:32640-1709280000-1709485200@v11.heritagetrustbaroda.org
SUMMARY:Exhibition at Alembic Art District in collaboration with School of Design and Architecture (SEDA) at Navarachna University
DESCRIPTION:The exhibition on recent explorations in architectural documentation by the students of Architecture and Design. The exhibition is curated around certain specific themes\, each one reflecting academic interests and pedagogical approaches of the school\, such as Nature and Setting\, Tectonics\, House and Community\, Urban Form\, and Recent Technologies. The event is in collaboration with Heritage Trust. \nDo join us for the exhibition\, scheduled on 1st\, 2nd and 3rd March.
URL:https://v11.heritagetrustbaroda.org/event/exhibition-at-alembic-art-district-in-collaboration-with-school-of-design-and-architecture-seda/
LOCATION:Alembic Art District\, Gorwa\, Vadodara\, Gujarat\, India
CATEGORIES:Heritage
ATTACH;FMTTYPE=image/webp:https://v11.heritagetrustbaroda.org/wp-content/uploads/2025/12/seda-exhibition.webp
END:VEVENT
BEGIN:VEVENT
DTSTART;TZID=Asia/Kolkata:20240309T090000
DTEND;TZID=Asia/Kolkata:20240310T123000
DTSTAMP:20260421T063125
CREATED:20251209T102612Z
LAST-MODIFIED:20251212T202949Z
UID:32427-1709974800-1710073800@v11.heritagetrustbaroda.org
SUMMARY:Monoprint Workshop
DESCRIPTION:The Chhaap foundation has been promoting printing as an art form since 1999 through various exhibitions\, talks\, and workshops. In association with Heritage Trust\, we are hosting a two-day workshop on the monoprint technique\, dedicated to the Vad(Baniyan tree) of Vadodara.\n\nUnlike other printmaking techniques\, mono-printing is a spontaneous\, direct\, and playful process. You can use various materials like leaves\, threads\, cotton or draw\, paint directly on the surface of the block with ink and transfer them onto paper. Let your imagination run wild and create beautiful compositions with forms\, colours\, and textures as you wish.\nWe invite you to join us and explore this exciting process with our skilled printmakers.
URL:https://v11.heritagetrustbaroda.org/event/monoprint-workshop/
LOCATION:CHHAAP STUDIOS\, 28 Nand Society\, Behind Reliance Mall\, OP Road\,\, Vadodara\, Gujarat\, 390020\, India
ATTACH;FMTTYPE=image/jpeg:https://v11.heritagetrustbaroda.org/wp-content/uploads/2025/12/Monoprint-Workshop-740x740-1.jpeg
ORGANIZER;CN="Heritage Trust Baroda":MAILTO:info@heritagetrustbaroda.org
END:VEVENT
BEGIN:VEVENT
DTSTART;TZID=Asia/Kolkata:20240323T160000
DTEND;TZID=Asia/Kolkata:20240323T180000
DTSTAMP:20260421T063125
CREATED:20251220T195609Z
LAST-MODIFIED:20251220T195609Z
UID:32646-1711209600-1711216800@v11.heritagetrustbaroda.org
SUMMARY:Tour the Churches of Fatehgunj
DESCRIPTION:This Lenten season\, join us as we embark on a journey through Fatehgunj’s diverse churches\, the Shrine of Mother of the Forsaken\, the Methodist Church and the Rosary Cathedral. Discover the rich history and traditions of each sanctuary as we explore the significance of Lent with insights from church elders. \nDate: 23rd March\, 2024\nTime: 4:00pm to 6:00pm\nMeeting Point: Shrine of Mother of the Forsaken\, Fatehgunj
URL:https://v11.heritagetrustbaroda.org/event/tour-the-churches-of-fatehgunj/
LOCATION:Shrine of Mother of the Forsaken\, Fatehgunj\, Vadodara\, Gujarat\, India
CATEGORIES:Heritage Walk
ATTACH;FMTTYPE=image/webp:https://v11.heritagetrustbaroda.org/wp-content/uploads/2025/12/churches-of-fatehgunj.webp
ORGANIZER;CN="Heritage Trust Baroda":MAILTO:info@heritagetrustbaroda.org
END:VEVENT
END:VCALENDAR