BEGIN:VCALENDAR
VERSION:2.0
PRODID:-//Heritage Trust Baroda - ECPv6.15.14//NONSGML v1.0//EN
CALSCALE:GREGORIAN
METHOD:PUBLISH
X-WR-CALNAME:Heritage Trust Baroda
X-ORIGINAL-URL:https://v11.heritagetrustbaroda.org
X-WR-CALDESC:Events for Heritage Trust Baroda
REFRESH-INTERVAL;VALUE=DURATION:PT1H
X-Robots-Tag:noindex
X-PUBLISHED-TTL:PT1H
BEGIN:VTIMEZONE
TZID:Asia/Kolkata
BEGIN:STANDARD
TZOFFSETFROM:+0530
TZOFFSETTO:+0530
TZNAME:IST
DTSTART:20230101T000000
END:STANDARD
END:VTIMEZONE
BEGIN:VEVENT
DTSTART;TZID=Asia/Kolkata:20240601T080000
DTEND;TZID=Asia/Kolkata:20240601T100000
DTSTAMP:20260421T011401
CREATED:20251220T201747Z
LAST-MODIFIED:20251220T201747Z
UID:32657-1717228800-1717236000@v11.heritagetrustbaroda.org
SUMMARY:Heritage Walk in Sayajibaug Zoo
DESCRIPTION:Heritage Trust Baroda organized a unique heritage walk led by Dr. Pratyush Patankar\, curator of Sayajibaug Zoo\, and Mr. Manav Mehta\, the zoo’s education officer. \nOur journey took us through the historic sections of the Sri Sayajibaug Zoo\, including the Mota Vagh Khana\, Hathi Khana\, and Popat Bangli. We also explored the recently inaugurated aviary\, featuring a first-of-its-kind open aviary where visitors stroll along a skywalk\, getting up close and personal with a variety of birds without any barriers. \nOur participants were thrilled to see so many birds up close while Dr. Patankar and Mr. Mehta shared fascinating details about zoo operations\, the zoo’s rich history\, and exciting future plans. We also visited the Maharani Chinmabai Ladies Club\, an extraordinary structure from the early 20th century that can be dismantled and reconstructed elsewhere. \nA highlight of the tour was entering the historic tiger cage\, where participants got an exclusive look at how tigers were fed and released into the open section. We also walked across the old bridge over the Vishwamitri\, spotting crocodiles and even a wild tortoise! Although closed to the public for a year\, this bridge offered a unique perspective. \nThe walk was a hit with everyone—kids bursting with excitement and adults taking a nostalgic trip down memory lane. Truly an enchanting day for all ages!
URL:https://v11.heritagetrustbaroda.org/event/heritage-walk-in-sayajibaug-zoo/
LOCATION:Kamatibaug\, Vadodara\, Vadodara\, Gujarat\, India
CATEGORIES:Heritage Walk
ATTACH;FMTTYPE=image/webp:https://v11.heritagetrustbaroda.org/wp-content/uploads/2025/12/zoo.webp
ORGANIZER;CN="Heritage Trust Baroda":MAILTO:info@heritagetrustbaroda.org
END:VEVENT
BEGIN:VEVENT
DTSTART;TZID=Asia/Kolkata:20240621T060000
DTEND;TZID=Asia/Kolkata:20240621T073000
DTSTAMP:20260421T011401
CREATED:20251220T202522Z
LAST-MODIFIED:20251220T202522Z
UID:32660-1718949600-1718955000@v11.heritagetrustbaroda.org
SUMMARY:Celebrating 10th International Yoga Day
DESCRIPTION:You are Cordially Invited! \nExperience A Unique Blend of Physical & Mental Wellness.\nWe Honour The Rich Legacy of Rajratna\, Rajpriya\, Professor Manikrao\, his Mentor\, Maharaja Sayajirao & Associate\nKasgiwale\, along with their Heritage of Yoga. \n  \nYoga Program              Rope & Pole Mallakhamb Demonstration               Heritage Conversations \n  \nDate: 21° June\, 2024\nTime: 06:00 AM to 07:30AM\nVenue: Professor Manik Raoji Ka Shree Jumma Dada Vyayam Mandir\, Vadodara
URL:https://v11.heritagetrustbaroda.org/event/celebrating-10th-international-yoga-day/
LOCATION:Jumma Dada Vyayam Mandir\, Vadodara\, Gujarat\, 390001\, India
CATEGORIES:Heritage
ATTACH;FMTTYPE=image/webp:https://v11.heritagetrustbaroda.org/wp-content/uploads/2025/12/yoga.webp
ORGANIZER;CN="Heritage Trust Baroda":MAILTO:info@heritagetrustbaroda.org
END:VEVENT
BEGIN:VEVENT
DTSTART;TZID=Asia/Kolkata:20240629T180000
DTEND;TZID=Asia/Kolkata:20240629T200000
DTSTAMP:20260421T011401
CREATED:20251220T203105Z
LAST-MODIFIED:20251220T203105Z
UID:32664-1719684000-1719691200@v11.heritagetrustbaroda.org
SUMMARY:Talk on Abbas Tayibji
DESCRIPTION:“Grand Old Man of Gujarat: Abbas Tyabji and his place in the Non-Co-operation and Civil Disobedience Movements”\nAn illustrated Lecture by Anil Nauriya\, Advocate\, Supreme Court of India. \nAnil Nauriya is Advocate at the Supreme Court of India. He is former Senior Fellow\, Nehru Memorial Museum and Library\, Founder-Trustee\, Mahavir Tyagi Foundation for Political and Economic Decency\, Trustee on the Abbas Tyabji Educational and Charitable Trust\, and on the Governing Body\, Sardar Vallabhbhai Patel Smarak Trust\, New Delhi. He regularly contributes articles to prestigious journals and in 2006\, has authored the book\, ‘The African Element in Gandhi. He is currently working on comparative aspects of freedom struggles in\, and the post-colonial evolution of\, India and Africa. \nSaturday 29th June\, 2024\nTea: 6:00pm – 6:25pm\nLecture: 6:30pm\nVenue:\nThe Distillery\,\nAlembic Art District\, Alembic East City\nVadodara \n 
URL:https://v11.heritagetrustbaroda.org/event/talk-on-abbas-tayibji/
LOCATION:The Distillery\, Alembic Art District\, Alembic East City\, Vadodara\, Gujarat\, India
CATEGORIES:Viraasat Lectures
ATTACH;FMTTYPE=image/webp:https://v11.heritagetrustbaroda.org/wp-content/uploads/2025/12/abbas-tayabji.webp
ORGANIZER;CN="Heritage Trust Baroda":MAILTO:info@heritagetrustbaroda.org
END:VEVENT
END:VCALENDAR