BEGIN:VCALENDAR
VERSION:2.0
PRODID:-//Heritage Trust Baroda - ECPv6.15.14//NONSGML v1.0//EN
CALSCALE:GREGORIAN
METHOD:PUBLISH
X-ORIGINAL-URL:https://v11.heritagetrustbaroda.org
X-WR-CALDESC:Events for Heritage Trust Baroda
REFRESH-INTERVAL;VALUE=DURATION:PT1H
X-Robots-Tag:noindex
X-PUBLISHED-TTL:PT1H
BEGIN:VTIMEZONE
TZID:Asia/Kolkata
BEGIN:STANDARD
TZOFFSETFROM:+0530
TZOFFSETTO:+0530
TZNAME:IST
DTSTART:20230101T000000
END:STANDARD
END:VTIMEZONE
BEGIN:VEVENT
DTSTART;TZID=Asia/Kolkata:20241116T080000
DTEND;TZID=Asia/Kolkata:20241116T170000
DTSTAMP:20260420T172045
CREATED:20251221T091526Z
LAST-MODIFIED:20251221T091526Z
UID:32678-1731744000-1731776400@v11.heritagetrustbaroda.org
SUMMARY:Writing + Drawing Competition with small kids at the Baroda Central Library
DESCRIPTION:A Morning Full of Creativity and Cuteness! \nOn the morning of November 16th\, we had the pleasure of collaborating with the Baroda Central Library for a delightful event with little ones. \nThe day began with a writing competition\, followed by a drawing competition where we\, The Heritage Trust of Baroda\, proudly sponsored crayons for the young artists. \nIt was a morning filled with laughter\, chatter\, and the boundless energy of enthusiastic kids showcasing their incredible talent. \nWe deeply appreciate the Baroda Central Library’s efforts in nurturing a love for reading\, writing\, and creativity in young minds. \nHere’s to more events that inspire and engage!
URL:https://v11.heritagetrustbaroda.org/event/writing-drawing-competition-with-small-kids-at-the-baroda-central-library/
CATEGORIES:Heritage
ATTACH;FMTTYPE=image/webp:https://v11.heritagetrustbaroda.org/wp-content/uploads/2025/12/writing-drawing.webp
END:VEVENT
BEGIN:VEVENT
DTSTART;TZID=Asia/Kolkata:20241116T180000
DTEND;TZID=Asia/Kolkata:20241116T190000
DTSTAMP:20260420T172045
CREATED:20251209T103548Z
LAST-MODIFIED:20251209T103548Z
UID:32434-1731780000-1731783600@v11.heritagetrustbaroda.org
SUMMARY:Varssa Ni Vaato - 6th Edition
DESCRIPTION:Conversations around Conservation \n“Varsa ni Vaato” is an endeavour aimed at fostering closer connections with our members through a structured series of brief interactions with experts. These sessions offer invaluable insights and perspectives on a diverse array of topics. \nDr. Rahul Bhagwat\, an accomplished tabla player and dedicated classical music scholar\, is also an avid birder and wildlife photographer. With over 1000 rare bird species captured in his photography collection\, Dr. Bhagwat’s passion for nature has led him to collaborate closely with the Gujarat Forest Department\, where his photography and conservation work contribute to eco-tourism and educational displays across forest centers. He regularly conducts workshops on wildlife photography and conservation\, showcasing the rich biodiversity of India through annual exhibitions\, publications\, and school programs. He also runs an NGO\, ‘Wildlife Educare’\, which aims to create wildlife awareness in tribal schools across India. \nIn this event\, Dr. Bhagwat will share his journey as a birdwatcher\, insights into wildlife photography\, and his dedication to conserving India’s natural habitats. In his own words\, \n“Birding isn’t just a hobby; it’s a lifestyle\, and conserving nature is an absolute necessity.” \n  \n 
URL:https://v11.heritagetrustbaroda.org/event/varssa-ni-vaato-6th-edition/
LOCATION:See Linkages Pvt Ltd\, 612\, GIDC\, Industrial Estate\, Makarpura\, Vadodara\, Gujarat\, 390010\, India
CATEGORIES:Conservation,Heritage,Varsa ni Vaato
ATTACH;FMTTYPE=image/jpeg:https://v11.heritagetrustbaroda.org/wp-content/uploads/2025/12/Varssa-Ni-Vaato-6.jpg
ORGANIZER;CN="Heritage Trust Baroda":MAILTO:info@heritagetrustbaroda.org
END:VEVENT
BEGIN:VEVENT
DTSTART;TZID=Asia/Kolkata:20241117T063000
DTEND;TZID=Asia/Kolkata:20241117T083000
DTSTAMP:20260420T172045
CREATED:20251209T171005Z
LAST-MODIFIED:20251209T171127Z
UID:32437-1731825000-1731832200@v11.heritagetrustbaroda.org
SUMMARY:Culture Roadies
DESCRIPTION:A 2-Wheeler exploration of Historical Baroda \nCurated & Conducted by Sameer Gaikwad \nPlease use the registration link below to register for the event:
URL:https://v11.heritagetrustbaroda.org/event/culture-roadies/
LOCATION:Old City Vadodara\, India
CATEGORIES:Heritage
ATTACH;FMTTYPE=image/jpeg:https://v11.heritagetrustbaroda.org/wp-content/uploads/2025/12/CULTURE-ROADIES-740x740-1.jpg
ORGANIZER;CN="Heritage Trust Baroda":MAILTO:info@heritagetrustbaroda.org
END:VEVENT
BEGIN:VEVENT
DTSTART;TZID=Asia/Kolkata:20241122T070000
DTEND;TZID=Asia/Kolkata:20241122T210000
DTSTAMP:20260420T172045
CREATED:20251209T171437Z
LAST-MODIFIED:20251209T192416Z
UID:32440-1732258800-1732309200@v11.heritagetrustbaroda.org
SUMMARY:Permaculture and the Land
DESCRIPTION:Preserving our Ecological Heritage in Urban Spaces \nCurated and Conducted by Reena Raj Rastogi and Rajasi Rastogi \nPlease use the registration link below to register for the event:
URL:https://v11.heritagetrustbaroda.org/event/permaculture-and-the-land/
CATEGORIES:Heritage
ATTACH;FMTTYPE=image/jpeg:https://v11.heritagetrustbaroda.org/wp-content/uploads/2025/12/PERMACULTURE-740x740-1.jpg
ORGANIZER;CN="Heritage Trust Baroda":MAILTO:info@heritagetrustbaroda.org
END:VEVENT
BEGIN:VEVENT
DTSTART;TZID=Asia/Kolkata:20241122T183000
DTEND;TZID=Asia/Kolkata:20241122T203000
DTSTAMP:20260420T172045
CREATED:20251209T171644Z
LAST-MODIFIED:20251209T192446Z
UID:32443-1732300200-1732307400@v11.heritagetrustbaroda.org
SUMMARY:Baroda Triangle
DESCRIPTION:A non-vegetarian food walk exploring the streets of Chowkhandi\, Moghulwada and Mandvi \nCurated and Conducted by Adil Marawala \nPlease use the registration link below to register for the event:
URL:https://v11.heritagetrustbaroda.org/event/baroda-triangle/
CATEGORIES:Food
ATTACH;FMTTYPE=image/jpeg:https://v11.heritagetrustbaroda.org/wp-content/uploads/2025/12/NON-VEG-FOOD-WALK-740x740-1.jpg
ORGANIZER;CN="Heritage Trust Baroda":MAILTO:info@heritagetrustbaroda.org
END:VEVENT
BEGIN:VEVENT
DTSTART;TZID=Asia/Kolkata:20241123T083000
DTEND;TZID=Asia/Kolkata:20241123T090000
DTSTAMP:20260420T172045
CREATED:20251209T172029Z
LAST-MODIFIED:20251209T172029Z
UID:32446-1732350600-1732352400@v11.heritagetrustbaroda.org
SUMMARY:Statues of Kamatibaug – A Heritage Walk
DESCRIPTION:A Heritage Walk \nCurated and Conducted by Sandhya Gajjar and Chandrashekhar Patil \n 
URL:https://v11.heritagetrustbaroda.org/event/statues-of-kamatibaug-a-heritage-walk/
LOCATION:Kamatibaug\, Vadodara\, Vadodara\, Gujarat\, India
CATEGORIES:Heritage Walk
ATTACH;FMTTYPE=image/jpeg:https://v11.heritagetrustbaroda.org/wp-content/uploads/2025/12/statuesofkamatibaug2024.jpg
ORGANIZER;CN="Heritage Trust Baroda":MAILTO:info@heritagetrustbaroda.org
END:VEVENT
BEGIN:VEVENT
DTSTART;TZID=Asia/Kolkata:20241123T183000
DTEND;TZID=Asia/Kolkata:20241123T203000
DTSTAMP:20260420T172045
CREATED:20251209T183712Z
LAST-MODIFIED:20251209T183712Z
UID:32449-1732386600-1732393800@v11.heritagetrustbaroda.org
SUMMARY:Raopura Retro-Mance
DESCRIPTION:A vegetarian food walk exploring munchies and more in and around Raopura \nCurated and Conducted by Adil Marawala
URL:https://v11.heritagetrustbaroda.org/event/raopura-retro-mance/
LOCATION:Old City Vadodara\, India
CATEGORIES:Food,Heritage Walk
ATTACH;FMTTYPE=image/jpeg:https://v11.heritagetrustbaroda.org/wp-content/uploads/2025/12/veg-food-walk.jpg
ORGANIZER;CN="Heritage Trust Baroda":MAILTO:info@heritagetrustbaroda.org
END:VEVENT
BEGIN:VEVENT
DTSTART;TZID=Asia/Kolkata:20241124T103000
DTEND;TZID=Asia/Kolkata:20241124T130000
DTSTAMP:20260420T172045
CREATED:20251209T183932Z
LAST-MODIFIED:20251209T183932Z
UID:32452-1732444200-1732453200@v11.heritagetrustbaroda.org
SUMMARY:Workshop on Baroda Library Movement
DESCRIPTION:Workshop on Baroda Library Movement with kids from Srotoshwini Trust \nCurated and Conducted by Alka Smart\, Advaita Jalan and Bhavesh Dhonde
URL:https://v11.heritagetrustbaroda.org/event/workshop-on-baroda-library-movement/
LOCATION:Baroda Central Library\, Besides Bank of Baroda\, Bajwada\, Vadodara\, Gujarat\, 390006\, India
CATEGORIES:Heritage
ATTACH;FMTTYPE=image/jpeg:https://v11.heritagetrustbaroda.org/wp-content/uploads/2025/12/library-workshop.jpg
ORGANIZER;CN="Heritage Trust Baroda":MAILTO:info@heritagetrustbaroda.org
END:VEVENT
BEGIN:VEVENT
DTSTART;TZID=Asia/Kolkata:20241124T183000
DTEND;TZID=Asia/Kolkata:20241124T193000
DTSTAMP:20260420T172045
CREATED:20251209T184158Z
LAST-MODIFIED:20251209T184158Z
UID:32455-1732473000-1732476600@v11.heritagetrustbaroda.org
SUMMARY:A Coin Story: A glimpse into Numismatic Heritage
DESCRIPTION:A Glimpse into Numismatic Heritage \nCurated and Conducted by Zubair Motiwala
URL:https://v11.heritagetrustbaroda.org/event/a-coin-story-a-glimpse-into-numismatic-heritage/
LOCATION:Honest Jewellers\, Mandvi\, Mandvi\, Vadodara\, Gujarat\, India
CATEGORIES:Heritage
ATTACH;FMTTYPE=image/jpeg:https://v11.heritagetrustbaroda.org/wp-content/uploads/2025/12/coin-story.jpg
ORGANIZER;CN="Heritage Trust Baroda":MAILTO:info@heritagetrustbaroda.org
END:VEVENT
END:VCALENDAR