BEGIN:VCALENDAR
VERSION:2.0
PRODID:-//Heritage Trust Baroda - ECPv6.15.14//NONSGML v1.0//EN
CALSCALE:GREGORIAN
METHOD:PUBLISH
X-WR-CALNAME:Heritage Trust Baroda
X-ORIGINAL-URL:https://v11.heritagetrustbaroda.org
X-WR-CALDESC:Events for Heritage Trust Baroda
REFRESH-INTERVAL;VALUE=DURATION:PT1H
X-Robots-Tag:noindex
X-PUBLISHED-TTL:PT1H
BEGIN:VTIMEZONE
TZID:Asia/Kolkata
BEGIN:STANDARD
TZOFFSETFROM:+0530
TZOFFSETTO:+0530
TZNAME:IST
DTSTART:20230101T000000
END:STANDARD
END:VTIMEZONE
BEGIN:VEVENT
DTSTART;TZID=Asia/Kolkata:20241222T080000
DTEND;TZID=Asia/Kolkata:20241222T170000
DTSTAMP:20260420T154816
CREATED:20251221T091736Z
LAST-MODIFIED:20251221T091736Z
UID:32681-1734854400-1734886800@v11.heritagetrustbaroda.org
SUMMARY:A Tour of the Churches of Fatehgunj
DESCRIPTION:
URL:https://v11.heritagetrustbaroda.org/event/a-tour-of-the-churches-of-fatehgunj/
CATEGORIES:Heritage,Heritage Walk
END:VEVENT
END:VCALENDAR